BEGIN:VCALENDAR
VERSION:2.0
PRODID:-//Nazareth Sisters of the Annunciation - ECPv6.15.11//NONSGML v1.0//EN
CALSCALE:GREGORIAN
METHOD:PUBLISH
X-ORIGINAL-URL:https://www.nazarethsistersmeru.org
X-WR-CALDESC:Events for Nazareth Sisters of the Annunciation
REFRESH-INTERVAL;VALUE=DURATION:PT1H
X-Robots-Tag:noindex
X-PUBLISHED-TTL:PT1H
BEGIN:VTIMEZONE
TZID:Africa/Nairobi
BEGIN:STANDARD
TZOFFSETFROM:+0300
TZOFFSETTO:+0300
TZNAME:EAT
DTSTART:20240101T000000
END:STANDARD
END:VTIMEZONE
BEGIN:VEVENT
DTSTART;VALUE=DATE:20251230
DTEND;VALUE=DATE:20260101
DTSTAMP:20260425T184323
CREATED:20250319T050922Z
LAST-MODIFIED:20250319T050922Z
UID:24344-1767063600-1767149999@www.nazarethsistersmeru.org
SUMMARY:The 11th anniversary of Sr. Mercy Paul Njoki\, RIP
DESCRIPTION:
URL:https://www.nazarethsistersmeru.org/event/the-11th-anniversary-of-sr-mercy-paul-njoki-rip/
END:VEVENT
BEGIN:VEVENT
DTSTART;VALUE=DATE:20251227
DTEND;VALUE=DATE:20251229
DTSTAMP:20260425T184323
CREATED:20250319T050856Z
LAST-MODIFIED:20250319T050856Z
UID:24342-1766804400-1766890799@www.nazarethsistersmeru.org
SUMMARY:Zonal Leaders meeting at Victoria House
DESCRIPTION:
URL:https://www.nazarethsistersmeru.org/event/zonal-leaders-meeting-at-victoria-house/
END:VEVENT
BEGIN:VEVENT
DTSTART;VALUE=DATE:20251225
DTEND;VALUE=DATE:20251227
DTSTAMP:20260425T184323
CREATED:20250319T050833Z
LAST-MODIFIED:20250319T050833Z
UID:24340-1766631600-1766717999@www.nazarethsistersmeru.org
SUMMARY:CHRISTMAS DAY
DESCRIPTION:all Sisters to celebrate in their respective communities.
URL:https://www.nazarethsistersmeru.org/event/christmas-day/
END:VEVENT
BEGIN:VEVENT
DTSTART;VALUE=DATE:20251212
DTEND;VALUE=DATE:20251214
DTSTAMP:20260425T184323
CREATED:20250319T050736Z
LAST-MODIFIED:20250319T050736Z
UID:24338-1765508400-1765594799@www.nazarethsistersmeru.org
SUMMARY:The 21st anniversary of Sr. Josephine Ciakieni\, RIP
DESCRIPTION:
URL:https://www.nazarethsistersmeru.org/event/the-21st-anniversary-of-sr-josephine-ciakieni-rip/
END:VEVENT
BEGIN:VEVENT
DTSTART;TZID=Africa/Nairobi:20251209T110000
DTEND;TZID=Africa/Nairobi:20251216T200000
DTSTAMP:20260425T184323
CREATED:20250319T050636Z
LAST-MODIFIED:20250319T050636Z
UID:24336-1765278000-1765915200@www.nazarethsistersmeru.org
SUMMARY:Preached retreat at the Motherhouse
DESCRIPTION:
URL:https://www.nazarethsistersmeru.org/event/preached-retreat-at-the-motherhouse-2/
END:VEVENT
BEGIN:VEVENT
DTSTART;VALUE=DATE:20251208
DTEND;VALUE=DATE:20251210
DTSTAMP:20260425T184323
CREATED:20250319T050513Z
LAST-MODIFIED:20250319T050513Z
UID:24334-1765162800-1765249199@www.nazarethsistersmeru.org
SUMMARY:Feast of Immaculate Conception\, and 70th anniversary of our foundation
DESCRIPTION:9th Family Day
URL:https://www.nazarethsistersmeru.org/event/feast-of-immaculate-conception-and-70th-anniversary-of-our-foundation/
END:VEVENT
BEGIN:VEVENT
DTSTART;TZID=Africa/Nairobi:20251201T110000
DTEND;TZID=Africa/Nairobi:20251205T200000
DTSTAMP:20260425T184323
CREATED:20250319T050424Z
LAST-MODIFIED:20250319T050424Z
UID:24332-1764586800-1764964800@www.nazarethsistersmeru.org
SUMMARY:Junior Sisters workshop
DESCRIPTION:
URL:https://www.nazarethsistersmeru.org/event/junior-sisters-workshop-2/
END:VEVENT
BEGIN:VEVENT
DTSTART;VALUE=DATE:20251123
DTEND;VALUE=DATE:20251125
DTSTAMP:20260425T184323
CREATED:20250319T050327Z
LAST-MODIFIED:20250319T050327Z
UID:24330-1763866800-1763953199@www.nazarethsistersmeru.org
SUMMARY:13th anniversary of Sr. Carmelina Marigu\, RIP
DESCRIPTION:
URL:https://www.nazarethsistersmeru.org/event/13th-anniversary-of-sr-carmelina-marigu-rip/
END:VEVENT
BEGIN:VEVENT
DTSTART;VALUE=DATE:20251122
DTEND;VALUE=DATE:20251124
DTSTAMP:20260425T184323
CREATED:20250319T050228Z
LAST-MODIFIED:20250319T050228Z
UID:24328-1763780400-1763866799@www.nazarethsistersmeru.org
SUMMARY:Mass for all our departed   Sisters and our Father Founder\, RIP
DESCRIPTION:
URL:https://www.nazarethsistersmeru.org/event/mass-for-all-our-departed-sisters-and-our-father-founder-rip/
END:VEVENT
BEGIN:VEVENT
DTSTART;VALUE=DATE:20251119
DTEND;VALUE=DATE:20251121
DTSTAMP:20260425T184323
CREATED:20250319T050128Z
LAST-MODIFIED:20250319T050249Z
UID:24326-1763521200-1763607599@www.nazarethsistersmeru.org
SUMMARY:11th anniversary of Post. Jacqueline Amoit\, RIP
DESCRIPTION:
URL:https://www.nazarethsistersmeru.org/event/11th-anniversary-of-post-jacqueline-amoit-rip/
END:VEVENT
BEGIN:VEVENT
DTSTART;VALUE=DATE:20251019
DTEND;VALUE=DATE:20251021
DTSTAMP:20260425T184323
CREATED:20250319T045926Z
LAST-MODIFIED:20250319T045926Z
UID:24324-1760842800-1760929199@www.nazarethsistersmeru.org
SUMMARY:The 1st anniversary of Sr. Eugenia Kanyua
DESCRIPTION:
URL:https://www.nazarethsistersmeru.org/event/the-1st-anniversary-of-sr-eugenia-kanyua/
END:VEVENT
BEGIN:VEVENT
DTSTART;VALUE=DATE:20251002
DTEND;VALUE=DATE:20251004
DTSTAMP:20260425T184323
CREATED:20250319T045850Z
LAST-MODIFIED:20250319T050041Z
UID:24322-1759374000-1759460399@www.nazarethsistersmeru.org
SUMMARY:Feast of the Guardian Angels
DESCRIPTION:feast of our aspirants. \n 
URL:https://www.nazarethsistersmeru.org/event/feast-of-the-guardian-angels/
END:VEVENT
BEGIN:VEVENT
DTSTART;VALUE=DATE:20251001
DTEND;VALUE=DATE:20251003
DTSTAMP:20260425T184323
CREATED:20250319T045756Z
LAST-MODIFIED:20250319T045756Z
UID:24320-1759287600-1759373999@www.nazarethsistersmeru.org
SUMMARY:Feast of St. Theresa of the   Child Jesus
DESCRIPTION:celebrated as a special feast in the Novitiate.  NB:  This year the feast falls on a Sunday.
URL:https://www.nazarethsistersmeru.org/event/feast-of-st-theresa-of-the-child-jesus/
END:VEVENT
BEGIN:VEVENT
DTSTART;VALUE=DATE:20250929
DTEND;VALUE=DATE:20251001
DTSTAMP:20260425T184323
CREATED:20250319T045643Z
LAST-MODIFIED:20250319T045643Z
UID:24318-1759114800-1759201199@www.nazarethsistersmeru.org
SUMMARY:Feast of the Archangels
DESCRIPTION:Mass for our benefactors.
URL:https://www.nazarethsistersmeru.org/event/feast-of-the-archangels/
END:VEVENT
BEGIN:VEVENT
DTSTART;VALUE=DATE:20250922
DTEND;VALUE=DATE:20250924
DTSTAMP:20260425T184323
CREATED:20250319T045553Z
LAST-MODIFIED:20250319T045553Z
UID:24316-1758510000-1758596399@www.nazarethsistersmeru.org
SUMMARY:Novena to St. Theresa of the Child Jesus begins
DESCRIPTION:
URL:https://www.nazarethsistersmeru.org/event/novena-to-st-theresa-of-the-child-jesus-begins/
END:VEVENT
BEGIN:VEVENT
DTSTART;VALUE=DATE:20250810
DTEND;VALUE=DATE:20250812
DTSTAMP:20260425T184323
CREATED:20250319T045511Z
LAST-MODIFIED:20250319T045511Z
UID:24314-1754794800-1754881199@www.nazarethsistersmeru.org
SUMMARY:Professions and Jubilee Memorial mass for Sr. Nancy Margaret Wambui\, to mark her 25th anniversary celebration
DESCRIPTION:
URL:https://www.nazarethsistersmeru.org/event/professions-and-jubilee-memorial-mass-for-sr-nancy-margaret-wambui-to-mark-her-25th-anniversary-celebration/
END:VEVENT
BEGIN:VEVENT
DTSTART;VALUE=DATE:20250810
DTEND;VALUE=DATE:20250812
DTSTAMP:20260425T184323
CREATED:20250319T045304Z
LAST-MODIFIED:20250319T045304Z
UID:24312-1754794800-1754881199@www.nazarethsistersmeru.org
SUMMARY:Professions and Jubilee celebration
DESCRIPTION:
URL:https://www.nazarethsistersmeru.org/event/professions-and-jubilee-celebration/
END:VEVENT
BEGIN:VEVENT
DTSTART;VALUE=DATE:20250808
DTEND;VALUE=DATE:20250810
DTSTAMP:20260425T184323
CREATED:20250319T045214Z
LAST-MODIFIED:20250319T045214Z
UID:24310-1754622000-1754708399@www.nazarethsistersmeru.org
SUMMARY:Renewal mass at the Motherhouse
DESCRIPTION:Entry to the Novitiate/official reception of new aspirants
URL:https://www.nazarethsistersmeru.org/event/renewal-mass-at-the-motherhouse/
END:VEVENT
BEGIN:VEVENT
DTSTART;VALUE=DATE:20250805
DTEND;VALUE=DATE:20250807
DTSTAMP:20260425T184323
CREATED:20250319T045016Z
LAST-MODIFIED:20250319T045016Z
UID:24308-1754362800-1754449199@www.nazarethsistersmeru.org
SUMMARY:The 25th anniversary of Sr. Nancy Margaret Wambui\, RIP
DESCRIPTION:
URL:https://www.nazarethsistersmeru.org/event/the-25th-anniversary-of-sr-nancy-margaret-wambui-rip/
END:VEVENT
BEGIN:VEVENT
DTSTART;TZID=Africa/Nairobi:20250801T110000
DTEND;TZID=Africa/Nairobi:20250808T200000
DTSTAMP:20260425T184323
CREATED:20250319T044936Z
LAST-MODIFIED:20250319T044936Z
UID:24306-1754046000-1754683200@www.nazarethsistersmeru.org
SUMMARY:Preached retreat at the Motherhouse
DESCRIPTION:All Junior Sisters are expected to attend \n 
URL:https://www.nazarethsistersmeru.org/event/preached-retreat-at-the-motherhouse/
END:VEVENT
BEGIN:VEVENT
DTSTART;TZID=Africa/Nairobi:20250726T110000
DTEND;TZID=Africa/Nairobi:20250726T200000
DTSTAMP:20260425T184323
CREATED:20250319T044746Z
LAST-MODIFIED:20250319T044746Z
UID:24304-1753527600-1753560000@www.nazarethsistersmeru.org
SUMMARY:New aspirants’ entry to the Congregation
DESCRIPTION:Mass for our parents.
URL:https://www.nazarethsistersmeru.org/event/new-aspirants-entry-to-the-congregation/
END:VEVENT
BEGIN:VEVENT
DTSTART;VALUE=DATE:20250712
DTEND;VALUE=DATE:20250714
DTSTAMP:20260425T184323
CREATED:20250319T044650Z
LAST-MODIFIED:20250319T044650Z
UID:24302-1752289200-1752375599@www.nazarethsistersmeru.org
SUMMARY:The 29th anniversary of Sr. Tarsilla Karuta\, and the 8th anniversary of Sr. Mary Eunice Wanjiru RIP
DESCRIPTION:
URL:https://www.nazarethsistersmeru.org/event/the-29th-anniversary-of-sr-tarsilla-karuta-and-the-8th-anniversary-of-sr-mary-eunice-wanjiru-rip/
END:VEVENT
BEGIN:VEVENT
DTSTART;VALUE=DATE:20250701
DTEND;VALUE=DATE:20250703
DTSTAMP:20260425T184323
CREATED:20250319T044544Z
LAST-MODIFIED:20250319T044544Z
UID:24300-1751338800-1751425199@www.nazarethsistersmeru.org
SUMMARY:Preparations for Silver and Golden Jubilarians begins
DESCRIPTION:
URL:https://www.nazarethsistersmeru.org/event/preparations-for-silver-and-golden-jubilarians-begins/
END:VEVENT
BEGIN:VEVENT
DTSTART;VALUE=DATE:20250627
DTEND;VALUE=DATE:20250629
DTSTAMP:20260425T184323
CREATED:20250319T044319Z
LAST-MODIFIED:20250319T044319Z
UID:24298-1750993200-1751079599@www.nazarethsistersmeru.org
SUMMARY:The 35th anniversary   of Sr. Berna-dette Karimi\, RIP
DESCRIPTION:
URL:https://www.nazarethsistersmeru.org/event/the-35th-anniversary-of-sr-berna-dette-karimi-rip/
END:VEVENT
BEGIN:VEVENT
DTSTART;VALUE=DATE:20250605
DTEND;VALUE=DATE:20250607
DTSTAMP:20260425T184323
CREATED:20250319T044212Z
LAST-MODIFIED:20250319T044212Z
UID:24296-1749092400-1749178799@www.nazarethsistersmeru.org
SUMMARY:The 21st anniversary of Sr. Rose Peter Runji\, RIP
DESCRIPTION:
URL:https://www.nazarethsistersmeru.org/event/the-21st-anniversary-of-sr-rose-peter-runji-rip/
END:VEVENT
BEGIN:VEVENT
DTSTART;VALUE=DATE:20250531
DTEND;VALUE=DATE:20250602
DTSTAMP:20260425T184323
CREATED:20250319T044125Z
LAST-MODIFIED:20250319T044125Z
UID:24294-1748660400-1748746799@www.nazarethsistersmeru.org
SUMMARY:Feast of the Visitation
DESCRIPTION:A talk on Constitution review process.
URL:https://www.nazarethsistersmeru.org/event/feast-of-the-visitation/
END:VEVENT
BEGIN:VEVENT
DTSTART;VALUE=DATE:20250530
DTEND;VALUE=DATE:20250601
DTSTAMP:20260425T184323
CREATED:20250319T043853Z
LAST-MODIFIED:20250319T043853Z
UID:24292-1748574000-1748660399@www.nazarethsistersmeru.org
SUMMARY:The 12th anniversary of Sr. Maria Assunta Wanjiru\, RIP
DESCRIPTION:
URL:https://www.nazarethsistersmeru.org/event/the-12th-anniversary-of-sr-maria-assunta-wanjiru-rip/
END:VEVENT
BEGIN:VEVENT
DTSTART;VALUE=DATE:20250508
DTEND;VALUE=DATE:20250510
DTSTAMP:20260425T184323
CREATED:20250319T043440Z
LAST-MODIFIED:20250319T043806Z
UID:24289-1746673200-1746759599@www.nazarethsistersmeru.org
SUMMARY:The 1st anniversary of Sr. Mary Aloisia Muthanje\, RIP
DESCRIPTION:
URL:https://www.nazarethsistersmeru.org/event/the-1st-anniversary-of-sr-mary-aloisia-muthanje-rip/
END:VEVENT
BEGIN:VEVENT
DTSTART;VALUE=DATE:20250507
DTEND;VALUE=DATE:20250509
DTSTAMP:20260425T184323
CREATED:20250319T043346Z
LAST-MODIFIED:20250319T043346Z
UID:24287-1746586800-1746673199@www.nazarethsistersmeru.org
SUMMARY:The 1st anniversary of Sr. Doreen Kawira\, RIP
DESCRIPTION:
URL:https://www.nazarethsistersmeru.org/event/the-1st-anniversary-of-sr-doreen-kawira-rip/
END:VEVENT
BEGIN:VEVENT
DTSTART;VALUE=DATE:20250501
DTEND;VALUE=DATE:20250503
DTSTAMP:20260425T184323
CREATED:20250319T043154Z
LAST-MODIFIED:20250319T043154Z
UID:24285-1746068400-1746154799@www.nazarethsistersmeru.org
SUMMARY:Feast of St. Joseph the Worker
DESCRIPTION:Orientation course ends.\nIntensive preparation for pre-finals begins.
URL:https://www.nazarethsistersmeru.org/event/feast-of-st-joseph-the-worker/
END:VEVENT
END:VCALENDAR